BEGIN:VCALENDAR
VERSION:2.0
PRODID:-//Ines Reimers, Mainz / Ingelheim, Klare Worte. Starke Verbindung. Wirksame Führung. - ECPv6.15.20//NONSGML v1.0//EN
CALSCALE:GREGORIAN
METHOD:PUBLISH
X-WR-CALNAME:Ines Reimers, Mainz / Ingelheim, Klare Worte. Starke Verbindung. Wirksame Führung.
X-ORIGINAL-URL:https://ines-reimers.de
X-WR-CALDESC:Veranstaltungen für Ines Reimers, Mainz / Ingelheim, Klare Worte. Starke Verbindung. Wirksame Führung.
REFRESH-INTERVAL;VALUE=DURATION:PT1H
X-Robots-Tag:noindex
X-PUBLISHED-TTL:PT1H
BEGIN:VTIMEZONE
TZID:Europe/Berlin
BEGIN:DAYLIGHT
TZOFFSETFROM:+0100
TZOFFSETTO:+0200
TZNAME:CEST
DTSTART:20240331T010000
END:DAYLIGHT
BEGIN:STANDARD
TZOFFSETFROM:+0200
TZOFFSETTO:+0100
TZNAME:CET
DTSTART:20241027T010000
END:STANDARD
BEGIN:DAYLIGHT
TZOFFSETFROM:+0100
TZOFFSETTO:+0200
TZNAME:CEST
DTSTART:20250330T010000
END:DAYLIGHT
BEGIN:STANDARD
TZOFFSETFROM:+0200
TZOFFSETTO:+0100
TZNAME:CET
DTSTART:20251026T010000
END:STANDARD
BEGIN:DAYLIGHT
TZOFFSETFROM:+0100
TZOFFSETTO:+0200
TZNAME:CEST
DTSTART:20260329T010000
END:DAYLIGHT
BEGIN:STANDARD
TZOFFSETFROM:+0200
TZOFFSETTO:+0100
TZNAME:CET
DTSTART:20261025T010000
END:STANDARD
END:VTIMEZONE
BEGIN:VEVENT
DTSTART;VALUE=DATE:20250510
DTEND;VALUE=DATE:20250511
DTSTAMP:20260424T115720
CREATED:20241122T123417Z
LAST-MODIFIED:20241122T131733Z
UID:405-1746835200-1746921599@ines-reimers.de
SUMMARY:Workshop: Empathiekater vermeiden\, Mitgefühl stärken
DESCRIPTION:Das GFK-Netzwerk Mainz-Wiesbaden organisiert einen GFK-Tag in Mainz und ich bin mit zwei Workshops vertreten. \nHäh\, ist das nicht dasselbe\, denkst du? Ganz und gar nicht! In diesem Workshop wird dir klar\, welche Unterschiede es zwischen Empathie und Mitgefühl gibt und wie du es schaffst\, einfühlsam auch auf schwierige Lebenssituationen deines Gegenübers zu reagieren\, ohne dich vom Leid anstecken zu lassen – dir also einen Empathiekater zu holen – oder dich abzuschotten. Neben der neurowissenschaftlichen Grundlage der Unterschiede im Theorieteil wirst du mit praktischen Übungen neue Erfahrungen machen. Du lernst\, beim Zuhören deine Aufmerksamkeit auf Gefühle und Bedürfnisse deines Gegenübers zu lenken und gleichzeitig deine Selbstwahrnehmung zu stärken und zentriert zu bleiben. So bist du einfühlsam gesund!
URL:https://ines-reimers.de/event/workshop-gfk-tag-mainz-empathiekater-vermeiden-mitgefuehl-staerken/
LOCATION:VHS Mainz\, Karmeliterplatz 1\, Mainz\, 55116\, Germany
ATTACH;FMTTYPE=image/jpeg:https://ines-reimers.de/wp-content/uploads/2024/11/01_Header_GFK-Tag_2025.jpg
END:VEVENT
END:VCALENDAR